BEGIN:VCALENDAR
VERSION:2.0
PRODID:-//ChamberMaster//Event Calendar 2.0//EN
METHOD:PUBLISH
X-PUBLISHED-TTL:P3D
REFRESH-INTERVAL:P3D
CALSCALE:GREGORIAN
BEGIN:VEVENT
DTSTART:20260520T210000Z
DTEND:20260521T003000Z
X-MICROSOFT-CDO-ALLDAYEVENT:FALSE
SUMMARY:BACCF 2026 Music Industry Panel: How Music Drives Innovation\, Branding & Business
DESCRIPTION:BACCF 2026 Music Industry Panel\n\nFrom Stage to Strategy: How Music Drives Innovation\, Branding & Business\n\n \n\nThe Brazilian-American Chamber of Commerce of Florida (BACCF) cordially invites you to an engaging and forward looking discussion on the evolving role of music in business\, branding\, and global markets.\n\n \n\n \nSpecial Guest:\n\nJair Oliveira (BIO)\,\n\nBrazilian Singer\, Songwriter\, & Music Producer\n\nMarshmelody & S de Samba\n\n\n\nPanelists:\n\nEstela Romand (BIO)\,\n\nMusic Director\, Composer & Music Producer\n\n\n\nMaria Fulfaro (BIO)\,\n\nSenior Sales & Marketing Manger\n\nBroward Center for the Performing Arts\n\n\n\nGene de Souza (BIO)\,\n\nGeneral Manager\n\n88.9FM WDNA\n\n\n\nThiago Machado (BIO)\,\n\nFounder & CEO\n\nRanked Music\n \n\n \nJoin us for an exclusive conversation exploring how music is shaping industries\, elevating brands\, and opening new pathways for Brazilian talent in the United States. Our panel will dive into:\n\n\n	AI in the Music Industry: Innovation\, Impact & Event Marketing Amplified\n	Branding Through Sound: How Cross Industry Partnerships and Music Amplify Brand Impact\n	The Globalization of Brazilian Music: Exporting the Brazilian Sound and Navigating Unique Paths to Success in the U.S. Market\n\nThis dynamic session will bring together leaders from production\, performance\, broadcasting\, and marketing to discuss how music continues to influence strategy\, creativity\, and business opportunities across sectors.
X-ALT-DESC;FMTTYPE=text/html:<div style="text-align: center\;"><strong><span style="font-family:arial\;"><span style="font-size:36px\;">BACCF 2026&nbsp\;Music Industry Panel</span></span></strong><br />\n<strong><span style="font-size:36px\;"><span style="font-family:arial\;">From Stage to Strategy: How Music Drives Innovation\, Branding &amp\; Business<br />\n&nbsp\;</span></span></strong><br />\n<span style="font-size:24px\;"><span style="font-family:arial\;">The Brazilian-American Chamber of Commerce of Florida (BACCF) cordially invites you to an engaging and forward&#8209\;looking discussion on the evolving role of music in business\, branding\, and global markets.</span></span><br />\n&nbsp\;</div>\n\n<div>&nbsp\;\n<div style="text-align: center\;"><span style="color:#0000CD\;"><span style="text-align: center\;"><span style="font-size: 24px\;"><span style="font-family: arial\;"><u>Special Guest:</u></span></span></span></span><br />\n<span style="text-align: center\; color: rgb(0\, 0\, 0)\;"><span style="font-size: 24px\;"><span style="font-family: arial\;"><strong>Jair Oliveira (<a href="https://www.linkedin.com/in/jair-oliveira-38149929/" target="_blank">BIO</a>)\,</strong></span></span></span><br style="text-align: center\;" />\n<span style="font-size:24px\;"><span style="font-family:arial\;">Brazilian Singer\, Songwriter\, &amp\; Music Producer<br />\nMarshmelody &amp\; S de Samba</span></span><br />\n<br />\n<span style="color:#000000\;"><span style="font-size:24px\;"><span style="font-family:arial\;"><u>Panelists:</u><br />\n<strong>Estela Romand (<a href="https://www.linkedin.com/in/estela-romand-49362133/" target="_blank">BIO</a>)\,</strong></span></span></span><br />\n<span style="font-size:24px\;"><span style="font-family:arial\;">Music Director\, Composer &amp\; Music Producer</span></span><br />\n<br />\n<span style="color:#000000\;"><span style="font-size:24px\;"><span style="font-family:arial\;"><strong>Maria Fulfaro (<a href="https://www.linkedin.com/in/maria-fulfaro-652414a/" target="_blank">BIO</a>)\,</strong><br />\nSenior Sales &amp\; Marketing Manger<br />\nBroward Center for the Performing Arts</span></span></span><br />\n<br />\n<strong style="color: rgb(0\, 0\, 0)\; font-family: arial\; font-size: 24px\;">Gene de Souza (<a href="https://www.linkedin.com/in/gene-de-souza-7262aa7/" target="_blank">BIO</a>)\,</strong><br style="color: rgb(0\, 0\, 0)\; font-family: arial\; font-size: 24px\;" />\n<span style="color: rgb(0\, 0\, 0)\; font-family: arial\; font-size: 24px\;">General Manager</span><br style="color: rgb(0\, 0\, 0)\; font-family: arial\; font-size: 24px\;" />\n<span style="color:#000000\;"><span style="font-size:24px\;"><span style="font-family:arial\;">88.9FM WDNA</span></span></span><br />\n<br />\n<strong style="text-align: center\; color: rgb(0\, 0\, 0)\; font-family: arial\; font-size: 24px\;">Thiago Machado (<a href="https://chambermaster.blob.core.windows.net/userfiles/UserFiles/chambers/272/File/My_folder/ThiagoMachadoBio.pdf" target="_blank">BIO</a>)\,</strong><br style="text-align: center\; color: rgb(0\, 0\, 0)\; font-family: arial\; font-size: 24px\;" />\n<font color="#000000" face="arial"><span style="font-size: 24px\;">Founder &amp\; CEO</span></font><br style="text-align: center\; color: rgb(0\, 0\, 0)\; font-family: arial\; font-size: 24px\;" />\n<font color="#000000" face="arial"><span style="font-size: 24px\;">Ranked Music</span></font></div>\n&nbsp\;\n\n<div align="center" style="text-align:center\;">&nbsp\;</div>\n<span style="font-size:24px\;"><span style="font-family:arial\;">Join us for an exclusive conversation exploring how music is shaping industries\, elevating brands\, and opening new pathways for Brazilian talent in the United States. Our panel will dive into:</span></span>\n\n<ul>\n	<li><strong><span style="font-size:24px\;"><span style="font-family:arial\;">AI in the Music Industry: Innovation\, Impact &amp\; Event Marketing Amplified</span></span></strong></li>\n	<li><strong><span style="font-size:24px\;"><span style="font-family:arial\;">Branding Through Sound: How Cross&#8209\;Industry Partnerships and Music Amplify Brand Impact</span></span></strong></li>\n	<li><strong><span style="font-size:24px\;"><span style="font-family:arial\;">The Globalization of Brazilian Music: Exporting the Brazilian Sound and Navigating Unique Paths to Success in the U.S. Market</span></span></strong></li>\n</ul>\n<span style="font-size:24px\;"><span style="font-family:arial\;">This dynamic session will bring together leaders from production\, performance\, broadcasting\, and marketing to discuss how music continues to influence strategy\, creativity\, and business opportunities across sectors.</span></span><br />\n<br />\n<br />\n<br />\n<br />\n&nbsp\;\n<div style="box-sizing: content-box\; inset: auto\; clear: none\; color: rgb(34\, 34\, 34)\; content: normal\; direction: inherit\; empty-cells: show\; float: none\; font-variant-numeric: inherit\; font-variant-east-asian: inherit\; font-variant-alternates: inherit\; font-variant-position: inherit\; font-variant-emoji: inherit\; font-stretch: inherit\; font-size: 16px\; font-family: Montserrat\, sans-serif\; font-optical-sizing: inherit\; font-size-adjust: inherit\; font-kerning: inherit\; font-feature-settings: inherit\; font-variation-settings: inherit\; font-language-override: inherit\; line-height: inherit\; margin: 0px\; max-height: none\; max-width: none\; min-height: initial\; min-width: initial\; opacity: 1\; outline-offset: 0px\; overflow: visible\; padding: 0px\; position: static\; resize: none\; table-layout: auto\; text-overflow: clip\; vertical-align: baseline\; visibility: inherit\; word-break: inherit\; overflow-wrap: inherit\; z-index: auto\; background-image: none\; background-position: initial\; background-size: initial\; background-repeat: initial\; background-attachment: initial\; background-origin: initial\; background-clip: initial\; border-width: initial\; border-style: none\; border-color: initial\; border-collapse: separate\; border-image: none 100% 1 0 / 1 / 0 stretch\; border-radius: 0px\; height: auto\; width: auto\; box-shadow: none\;">&nbsp\;</div>\n<span style="font-family:arial\,sans-serif\;"><span style="font-size:26.0pt\;"> </span></span></div>\n
LOCATION:WDNA Studios 2921 Coral Way Miami\, FL 33145
UID:e.272.3911
SEQUENCE:3
DTSTAMP:20260424T015948Z
URL:https://business.brazilchamber.org/events/details/baccf-2026-music-industry-panel-how-music-drives-innovation-branding-business-05-20-2026-3911
END:VEVENT

END:VCALENDAR
